BEGIN:VCALENDAR
VERSION:2.0
PRODID:-//Marin Climate &amp; Energy Partnership - ECPv6.15.20//NONSGML v1.0//EN
CALSCALE:GREGORIAN
METHOD:PUBLISH
X-WR-CALNAME:Marin Climate &amp; Energy Partnership
X-ORIGINAL-URL:https://marinclimate.org
X-WR-CALDESC:Events for Marin Climate &amp; Energy Partnership
REFRESH-INTERVAL;VALUE=DURATION:PT1H
X-Robots-Tag:noindex
X-PUBLISHED-TTL:PT1H
BEGIN:VTIMEZONE
TZID:America/Los_Angeles
BEGIN:DAYLIGHT
TZOFFSETFROM:-0800
TZOFFSETTO:-0700
TZNAME:PDT
DTSTART:20250309T100000
END:DAYLIGHT
BEGIN:STANDARD
TZOFFSETFROM:-0700
TZOFFSETTO:-0800
TZNAME:PST
DTSTART:20251102T090000
END:STANDARD
BEGIN:DAYLIGHT
TZOFFSETFROM:-0800
TZOFFSETTO:-0700
TZNAME:PDT
DTSTART:20260308T100000
END:DAYLIGHT
BEGIN:STANDARD
TZOFFSETFROM:-0700
TZOFFSETTO:-0800
TZNAME:PST
DTSTART:20261101T090000
END:STANDARD
BEGIN:DAYLIGHT
TZOFFSETFROM:-0800
TZOFFSETTO:-0700
TZNAME:PDT
DTSTART:20270314T100000
END:DAYLIGHT
BEGIN:STANDARD
TZOFFSETFROM:-0700
TZOFFSETTO:-0800
TZNAME:PST
DTSTART:20271107T090000
END:STANDARD
END:VTIMEZONE
BEGIN:VEVENT
DTSTART;TZID=America/Los_Angeles:20260422T190000
DTEND;TZID=America/Los_Angeles:20260422T200000
DTSTAMP:20260423T144221
CREATED:20260327T200849Z
LAST-MODIFIED:20260327T202039Z
UID:5290-1776884400-1776888000@marinclimate.org
SUMMARY:Climate Action Speaker Series: The EV Market
DESCRIPTION:Join us for the first presentation in a new series of programs\, in partnership with the San Anselmo Climate Action Commission. Anika Osborne from Ride and Drive Clean breaks down the current state of electric vehicles\, from available models and pricing to incentives and what’s coming next. \nSave the dates for the whole series: \n\nWednesday\, May 27 at 7pm: The Joy of Bike Commuting\nWednesday\, June 24 at 7pm: Solar\, Batteries\, and Heat Pumps — Making Incentives Work For You\nWednesday\, July 22 at 7pm: Wildfire Adaptation and Mitigation
URL:https://marinclimate.org/event/climate-action-speaker-series-the-ev-market/
LOCATION:San Anselmo Town Council Chambers\, 525 San Anselmo Ave.\, San Anselmo\, CA\, United States
END:VEVENT
BEGIN:VEVENT
DTSTART;TZID=America/Los_Angeles:20260425T090000
DTEND;TZID=America/Los_Angeles:20260425T110000
DTSTAMP:20260423T144221
CREATED:20260327T204301Z
LAST-MODIFIED:20260327T204301Z
UID:5307-1777107600-1777114800@marinclimate.org
SUMMARY:Spring Clean Novato
DESCRIPTION:This year’s theme\, Love Your Neighborhood\, celebrates community pride and the power of neighbors working together. Volunteer-led clean-up activities will take place in neighborhoods across the City\, helping to beautify Novato streets\, parks\, and public spaces. Register at Spring Clean Novato .
URL:https://marinclimate.org/event/spring-clean-novato-2/
LOCATION:Various Locations
END:VEVENT
BEGIN:VEVENT
DTSTART;TZID=America/Los_Angeles:20260425T090000
DTEND;TZID=America/Los_Angeles:20260425T150000
DTSTAMP:20260423T144221
CREATED:20260327T203442Z
LAST-MODIFIED:20260327T203732Z
UID:5300-1777107600-1777129200@marinclimate.org
SUMMARY:Slide Ranch Spring Fling
DESCRIPTION:Join us for a celebration of spring that only Slide Ranch can provide! Spring Fling 2026 will include numerous interactive activities\, goat milking\, fiber arts\, salve making\, flower crowns\, butter making\, cob oven demonstrations\, garden tours\, site walks\, the Marine Mammal Center\, Zero Waste Marin and Recology interactives\, honeybee education\, and more! \nThis is a great day out for families and a wonderful introduction to Slide Ranch for those who have not experienced our engaging programs. Bring a blanket\, chill-out to music in the garden\, and cherish the breathtaking views at our coastal farm just 1.5 miles north of Muir Beach. \nActivities are suitable for all ages. Food and beverages available for purchase. $40/general admission. Children under 2 are free. Spring Fling 2026 is a cashless event!
URL:https://marinclimate.org/event/slide-ranch-spring-fling/
LOCATION:Slide Ranch\, 2025 Shoreline Highway\, Muir Beach\, CA\, United States
END:VEVENT
BEGIN:VEVENT
DTSTART;TZID=America/Los_Angeles:20260425T100000
DTEND;TZID=America/Los_Angeles:20260425T140000
DTSTAMP:20260423T144221
CREATED:20260402T163322Z
LAST-MODIFIED:20260402T163628Z
UID:5318-1777111200-1777125600@marinclimate.org
SUMMARY:Takeback Day
DESCRIPTION:Do you have old pharmaceuticals\, or e-waste to dispose of? Documents that need shredding? Need fresh compost for the yard? If so\, come to this Spring’s Takeback Day! \n\n\n\nAccepted items and services: \n\n\nE-waste dropoff – No bulbs or batteries\nSelf-Serve Compost – Bring buckets\nPaper document shredding\nExpired / Unused Pharmaceuticals
URL:https://marinclimate.org/event/takeback-day/
LOCATION:Fairfax Pavillion Parking Lot\, 142 Bolinas Rd.\, Fairfax\, CA\, United States
END:VEVENT
BEGIN:VEVENT
DTSTART;TZID=America/Los_Angeles:20260425T100000
DTEND;TZID=America/Los_Angeles:20260425T150000
DTSTAMP:20260423T144221
CREATED:20260327T202352Z
LAST-MODIFIED:20260327T202556Z
UID:5296-1777111200-1777129200@marinclimate.org
SUMMARY:Re-Loved Market
DESCRIPTION:Join us for an inspiring day dedicated to sustainable fashion and creativity at the Re-Loved Market! This vibrant event brings together a community of fashion enthusiasts\, upcycled artists\, and eco-conscious shoppers to celebrate the art of recycling\, reusing\, and upcycling. \nAt the Re-Loved Market\, you can shop for stylish clothes for adults and children as we as upcycled crafts.
URL:https://marinclimate.org/event/re-loved-market/
LOCATION:Mill Valley Community Center\, 180 Camino Alto\, Mill Valley\, CA\, United States
END:VEVENT
BEGIN:VEVENT
DTSTART;TZID=America/Los_Angeles:20260426T120000
DTEND;TZID=America/Los_Angeles:20260426T150000
DTSTAMP:20260423T144221
CREATED:20260327T204635Z
LAST-MODIFIED:20260327T204635Z
UID:5309-1777204800-1777215600@marinclimate.org
SUMMARY:Earth Day Marin
DESCRIPTION:Earth Day Marin is a free community event for people of all ages\, with informative booths\, fun activities\, art\, music\, games and talks in a beautiful outdoor setting. We expect this to be Marin’s largest Earth Day event! \nVisit 50 booths hosted by green businesses\, environmental and community groups to help build a more just and sustainable world. You will learn about sustainable living and climate actions like: use clean energy\, electrify your home\, ride electric vehicles\, eat well\, live sustainably\, protect nature\, build resilient communities\, support climate justice and save democracy!
URL:https://marinclimate.org/event/earth-day-marin/
LOCATION:Mill Valley Community Center\, 180 Camino Alto\, Mill Valley\, CA\, United States
END:VEVENT
END:VCALENDAR